BEGIN:VCALENDAR
VERSION:2.0
PRODID:-//145.223.38.130//NONSGML kigkonsult.se iCalcreator 2.20//
CALSCALE:GREGORIAN
METHOD:PUBLISH
X-WR-TIMEZONE:UTC
BEGIN:VEVENT
UID:event651@Frómista
DTSTAMP:20260424T133019Z
CATEGORIES:Encuentro
DESCRIPTION:ENCUENTRO LITERARIO CON  EL AUTOR RENÉ PÉREZ PÉREZ\nCategoría: 
 Encuentro\nEnlace: https://fromista.com/index.php?option=com_jem&view=even
 t&id=651:encuentro-literario-con-el-autor-rene\n
DTSTART:20260427T170000Z
DTEND:20260427T180000Z
LOCATION:Casa de Cultura
SUMMARY:ENCUENTRO LITERARIO CON  EL AUTOR RENÉ PÉREZ PÉREZ
URL:https://fromista.com/index.php?option=com_jem&view=event&id=651:encuent
 ro-literario-con-el-autor-rene
END:VEVENT
END:VCALENDAR
