BEGIN:VCALENDAR
VERSION:2.0
PRODID:-//145.223.38.130//NONSGML kigkonsult.se iCalcreator 2.20//
CALSCALE:GREGORIAN
METHOD:PUBLISH
X-WR-TIMEZONE:UTC
BEGIN:VEVENT
UID:event510@Frómista
DTSTAMP:20260421T112801Z
CATEGORIES:Fiestas
DESCRIPTION:I CONCURSO DE TAPAS 'VIRGEN DEL OTERO'\nCategoría: Fiestas\nEnl
 ace: https://fromista.com/index.php?option=com_jem&view=event&id=510:i-con
 curso-de-tapas-virgen-del-otero\n
DTSTART:20240907T130000Z
DTEND:20240907T160000Z
SUMMARY:I CONCURSO DE TAPAS 'VIRGEN DEL OTERO'
URL:https://fromista.com/index.php?option=com_jem&view=event&id=510:i-concu
 rso-de-tapas-virgen-del-otero
END:VEVENT
END:VCALENDAR
