BEGIN:VCALENDAR
VERSION:2.0
PRODID:-//145.223.38.130//NONSGML kigkonsult.se iCalcreator 2.20//
CALSCALE:GREGORIAN
METHOD:PUBLISH
X-WR-TIMEZONE:UTC
BEGIN:VEVENT
UID:event540@Frómista
DTSTAMP:20260421T092323Z
CATEGORIES:Club Lectura
DESCRIPTION:UN TÉ CON LIBROS\nCategoría: Club Lectura\nEnlace: https://from
 ista.com/index.php?option=com_jem&view=event&id=540:un-te-con-libros\n
DTSTART:20250124T170000Z
DTEND:20250124T190000Z
LOCATION:Biblioteca
SUMMARY:UN TÉ CON LIBROS
URL:https://fromista.com/index.php?option=com_jem&view=event&id=540:un-te-c
 on-libros
END:VEVENT
END:VCALENDAR
