BEGIN:VCALENDAR
VERSION:2.0
PRODID:-//145.223.38.130//NONSGML kigkonsult.se iCalcreator 2.20//
CALSCALE:GREGORIAN
METHOD:PUBLISH
X-WR-TIMEZONE:UTC
BEGIN:VEVENT
UID:event546@Frómista
DTSTAMP:20260419T120512Z
CATEGORIES:Club Lectura
DESCRIPTION:ENCUENTRO CLUB DE LECTURA FRÓMISTA\nCategoría: Club Lectura\nEn
 lace: https://fromista.com/index.php?option=com_jem&view=event&id=546:encu
 entro-club-de-lectura-fromista\n
DTSTART:20250221T180000Z
DTEND:20250221T190000Z
LOCATION:Biblioteca
SUMMARY:ENCUENTRO CLUB DE LECTURA FRÓMISTA
URL:https://fromista.com/index.php?option=com_jem&view=event&id=546:encuent
 ro-club-de-lectura-fromista
END:VEVENT
END:VCALENDAR
